Workbook

Sheet 入力シート
A1: 入力シート | K1: 富山県 | L1: 投 手 | M1: 8 | N1: 1 | O1: 1
A2: 大会名 | D2: 第19回 中ブロック実年ソフトボール大会 | K2: 石川県 | L2: 捕 手 | M2: 9 | N2: 2 | O2: 2
A3: 都道府県名 | K3: 福井県 | L3: 一塁手 | N3: 3 | O3: 3
A4: フリガナ（カタカナ） | K4: 新潟県 | L4: 二塁手 | N4: 4 | O4: 4
A5: チーム名 | K5: 長野県 | L5: 三塁手 | N5: 5 | O5: 5
A6: 所在地 | B6: 住所 | D6: 〒 | F6: ※半角 | G6: ※市町村・区 | K6: 愛知県 | L6: 遊撃手 | N6: 6 | O6: 6
K7: 三重県 | L7: 左翼手 | N7: 7 | O7: 7
A8: 代表者名 | B8: フリガナ | K8: 岐阜県 | L8: 中堅手 | N8: 8 | O8: 8
B9: 氏名 | K9: 静岡県 | L9: 右翼手 | N9: 9 | O9: 9
A10: 連絡責任者 | B10: フリガナ | K10: 滋賀県 | L10: 内野手 | N10: 10 | O10: 10
B11: 氏名 | K11: 京都府 | L11: 外野手 | N11: 11 | O11: 11
B12: 住所 | D12: 〒 | F12: ※半角 | K12: 大阪府 | L12: 控え | N12: 12 | O12: 12
K13: 兵庫県 | O13: 13
B14: Tel | F14: ※半角 | K14: 奈良県 | O14: 14
B15: 携帯 | F15: ※半角 | K15: 和歌山県 | O15: 15
B16: Mail | F16: ※半角、成績等の送信用 | O16: 16
B17: 携帯Mail | F17: ※半角、大会当日の雨天時対応等連絡用 | O17: 17
A18: 監督(30) | B18: フリガナ | O18: 18 | P18: 公認ソフトボールコーチ１
B19: 氏名 | O19: 19 | P19: 公認ソフトボールコーチ２
A20: コーチ(31) | B20: フリガナ | O20: 20 | P20: 公認ソフトボールコーチ３
B21: 氏名 | O21: 21 | P21: 公認ソフトボールコーチ４
A22: コーチ(32) | B22: フリガナ | O22: 22 | P22: 公認ソフトボールスタートコーチ
B23: 氏名 | O23: 23
A24: スコアラー | B24: フリガナ | O24: 24
B25: 氏名 | O25: 25
A26: トレーナー | B26: フリガナ | O26: 26
B27: 氏名 | O27: 27
A28: 通訳 | B28: フリガナ | O28: 28
B29: 氏名 | O29: 29
A30: 指導者資格１ | B30: 氏名 | O30: 30
B31: 資格名 | O31: 31
B32: 登録番号
A33: 指導者資格２ | B33: 氏名
B34: 資格名
B35: 登録番号
E36: ※全角（日本 太郎） | F36: ※半角（ﾆﾎﾝ ﾀﾛｳ
A37: 選手 | B37: № | C37: ＵＮ | D37: 位置 | E37: 氏名 | F37: ﾌﾘｶﾞﾅ | G37: 年齢
B38: 1
B39: 2
B40: 3
...

Sheet 事務局用申込書
A1: （生涯種別）
A2: =入力シート!D2 -> 第19回 中ブロック実年ソフトボール大会 | P2: 参加申込書
A4: 所属 | D4: =入力シート!D3 -> 0
A5: 都道府県名
A6: フリガナ | C6: =入力シート!D4 -> 0 | I6: 所在地 | J6: =入力シート!D7 -> 0
A7: チーム名 | C7: =入力シート!D5 -> 0
A8: 代表者名 | C8: =入力シート!D9 -> 0 | G8: ｽｺｱﾗｰ名 | H8: =入力シート!D25 -> 0 | M8: 連絡責任者 | O8: =入力シート!D11 -> 0
A9: 監督名 | C9: 30 | D9: =入力シート!D19 -> 0 | G9: ※ｽｺｱﾗｰは公式記録員有資格者であること | M9: 連絡先 | O9: 〒 | P9: =入力シート!E12 -> 0
O10: =入力シート!D13 -> 0
A11: コーチ名 | C11: 31 | D11: =入力シート!D21 -> 0 | G11: 通訳名 | H11: =入力シート!D29 -> 0
O12: ℡ | P12: =入力シート!D14 -> 0
A13: コーチ名 | C13: 32 | D13: =入力シート!D23 -> 0 | G13: ﾄﾚｰﾅｰ名 | H13: =入力シート!D27 -> 0 | O13: 携帯 | P13: =入力シート!D15 -> 0
O14: メール | P14: =入力シート!D16 -> 0
A16: プログラム掲載用の選手は身体・人物ともに適当と認め、参加申し込みをいたします。 令和 年 月 日 | P16: 令和 | Q16: =入力シート!B66 -> 0 | R16: 年 | S16: =入力シート!B67 -> 0 | T16: 月 | U16: =入力シート!B68 -> 0 | V16: 日
A17: 中ブロックソフトボール協会
A18: 都道府県協会 殿 | L18: チーム代表者 | R18: =入力シート!B69 -> 0
A20: 上記チームは | E20: =入力シート!D3 -> 0 | F20: 代表として出場権を得ましたので証明します。 | P20: 令和 | Q20: =入力シート!B70 -> 0 | R20: 年 | S20: =入力シート!B71 -> 0 | T20: 月 | U20: =入力シート!B72 -> 0 | V20: 日
L22: 都道府県協会長 | R22: =入力シート!B73 -> 0
A23: 中ブロックソフトボール協会 殿
A24: 参加申込書の記載内容について確認いたしました。 | O24: 都道府県協会 確認者 | R24: =入力シート!B74 -> 0

Sheet プログラム掲載用
B2: =入力シート!D2 -> 第19回 中ブロック実年ソフトボール大会 | AE2: 【大会プログラム掲載用】
B4: 都道府県名 | J4: =入力シート!D3 -> 0
B5: フリガナ | J5: =入力シート!D4 -> 0 | AA5: チーム 所在地 | AE5: 市町村・区まで記入
B6: チーム名 | J6: =入力シート!D5 -> 0 | AE6: =入力シート!G7 -> 0
B7: 代表者名 | H7: =入力シート!D9 -> 0 | R7: ｽｺｱﾗｰ名 | X7: =入力シート!D25 -> 0
B8: 監督名 | F8: 30 | H8: =入力シート!D18 -> 0 | R8: ※ｽｺｱﾗｰは公式記録員有資格者であること
H9: =入力シート!D19 -> 0
B10: コーチ名 | F10: 31 | H10: =入力シート!D20 -> 0
H11: =入力シート!D21 -> 0 | R11: 通訳名 | X11: =入力シート!D29 -> 0
B12: コーチ名 | F12: 32 | H12: =入力シート!D22 -> 0
H13: =入力シート!D23 -> 0 | R13: ﾄﾚｰﾅｰ名 | X13: =入力シート!D27 -> 0
B14: ※下記の指導者資格のいずれかを有する者１名の氏名と資格名、登録番号を記載すること。（２名いる場合は２名）
B15: ①公認コーチ1～4 ②ソフトボールスタートコーチ
B16: 指導者氏名１ | J16: 資格名 | R16: MyJSPO No(登録番号) | Z16: 指導者氏名２ | AH16: 資格名 | AP16: MyJSPO No(登録番号)
B17: =入力シート!D30 -> 0 | J17: =入力シート!D31 -> 0 | R17: =入力シート!D32 -> 0 | Z17: =入力シート!D33 -> 0 | AH17: =入力シート!D34 -> 0 | AP17: =入力シート!D35 -> 0
C19: ※UN＝ﾕﾆﾌｫｰﾑﾅﾝﾊﾞｰ | U19: 【 選 手 名 簿 】
B20: № | D20: UN | F20: 位置 | I20: ﾌﾘｶﾞﾅ | X20: 年齢 | Z20: № | AB20: UN | AD20: 位置 | AG20: ﾌﾘｶﾞﾅ | AV20: 年齢
I21: 氏 名 | AG21: 氏 名
B22: 1 | D22: =入力シート!C38 -> 0 | F22: =入力シート!D38 -> 0 | I22: =入力シート!F38 -> 0 | X22: =入力シート!G38 -> 0 | Z22: 14 | AB22: =入力シート!C51 -> 0 | AD22: =入力シート!D51 -> 0 | AG22: =入力シート!F51 -> 0 | AV22: =入力シート!G51 -> 0
I23: =入力シート!E38 -> 0 | AG23: =入力シート!E51 -> 0
B24: 2 | D24: =入力シート!C39 -> 0 | F24: =入力シート!D39 -> 0 | I24: =入力シート!F39 -> 0 | X24: =入力シート!G39 -> 0 | Z24: 15 | AB24: =入力シート!C52 -> 0 | AD24: =入力シート!D52 -> 0 | AG24: =入力シート!F52 -> 0 | AV24: =入力シート!G52 -> 0
I25: =入力シート!E39 -> 0 | AG25: =入力シート!E52 -> 0
B26: 3 | D26: =入力シート!C40 -> 0 | F26: =入力シート!D40 -> 0 | I26: =入力シート!F40 -> 0 | X26: =入力シート!G40 -> 0 | Z26: 16 | AB26: =入力シート!C53 -> 0 | AD26: =入力シート!D53 -> 0 | AG26: =入力シート!F53 -> 0 | AV26: =入力シート!G53 -> 0
I27: =入力シート!E40 -> 0 | AG27: =入力シート!E53 -> 0
B28: 4 | D28: =入力シート!C41 -> 0 | F28: =入力シート!D41 -> 0 | I28: =入力シート!F41 -> 0 | X28: =入力シート!G41 -> 0 | Z28: 17 | AB28: =入力シート!C54 -> 0 | AD28: =入力シート!D54 -> 0 | AG28: =入力シート!F54 -> 0 | AV28: =入力シート!G54 -> 0
I29: =入力シート!E41 -> 0 | AG29: =入力シート!E54 -> 0
B30: 5 | D30: =入力シート!C42 -> 0 | F30: =入力シート!D42 -> 0 | I30: =入力シート!F42 -> 0 | X30: =入力シート!G42 -> 0 | Z30: 18 | AB30: =入力シート!C55 -> 0 | AD30: =入力シート!D55 -> 0 | AG30: =入力シート!F55 -> 0 | AV30: =入力シート!G55 -> 0
I31: =入力シート!E42 -> 0 | AG31: =入力シート!E55 -> 0
B32: 6 | D32: =入力シート!C43 -> 0 | F32: =入力シート!D43 -> 0 | I32: =入力シート!F43 -> 0 | X32: =入力シート!G43 -> 0 | Z32: 19 | AB32: =入力シート!C56 -> 0 | AD32: =入力シート!D56 -> 0 | AG32: =入力シート!F56 -> 0 | AV32: =入力シート!G56 -> 0
I33: =入力シート!E43 -> 0 | AG33: =入力シート!E56 -> 0
B34: 7 | D34: =入力シート!C44 -> 0 | F34: =入力シート!D44 -> 0 | I34: =入力シート!F44 -> 0 | X34: =入力シート!G44 -> 0 | Z34: 20 | AB34: =入力シート!C57 -> 0 | AD34: =入力シート!D57 -> 0 | AG34: =入力シート!F57 -> 0 | AV34: =入力シート!G57 -> 0
I35: =入力シート!E44 -> 0 | AG35: =入力シート!E57 -> 0
B36: 8 | D36: =入力シート!C45 -> 0 | F36: =入力シート!D45 -> 0 | I36: =入力シート!F45 -> 0 | X36: =入力シート!G45 -> 0 | Z36: 21 | AB36: =入力シート!C58 -> 0 | AD36: =入力シート!D58 -> 0 | AG36: =入力シート!F58 -> 0 | AV36: =入力シート!G58 -> 0
I37: =入力シート!E45 -> 0 | AG37: =入力シート!E58 -> 0
B38: 9 | D38: =入力シート!C46 -> 0 | F38: =入力シート!D46 -> 0 | I38: =入力シート!F46 -> 0 | X38: =入力シート!G46 -> 0 | Z38: 22 | AB38: =入力シート!C59 -> 0 | AD38: =入力シート!D59 -> 0 | AG38: =入力シート!F59 -> 0 | AV38: =入力シート!G59 -> 0
I39: =入力シート!E46 -> 0 | AG39: =入力シート!E59 -> 0
B40: 10 | D40: =入力シート!C47 -> 0 | F40: =入力シート!D47 -> 0 | I40: =入力シート!F47 -> 0 | X40: =入力シート!G47 -> 0 | Z40: 23 | AB40: =入力シート!C60 -> 0 | AD40: =入力シート!D60 -> 0 | AG40: =入力シート!F60 -> 0 | AV40: =入力シート!G60 -> 0
I41: =入力シート!E47 -> 0 | AG41: =入力シート!E60 -> 0
B42: 11 | D42: =入力シート!C48 -> 0 | F42: =入力シート!D48 -> 0 | I42: =入力シート!F48 -> 0 | X42: =入力シート!G48 -> 0 | Z42: 24 | AB42: =入力シート!C61 -> 0 | AD42: =入力シート!D61 -> 0 | AG42: =入力シート!F61 -> 0 | AV42: =入力シート!G61 -> 0
I43: =入力シート!E48 -> 0 | AG43: =入力シート!E61 -> 0
...

Sheet 記録用
A1: 記録用 | B1: (掲載用入力データを自動で写す)
A3: チーム名 | B3: =入力シート!D5 -> 0
A4: 監督名 | B4: =入力シート!D19 -> 0
B5: UN | C5: フリガナ | D5: 氏名
A6: 選手名1 | B6: =入力シート!C38 -> 0 | C6: =入力シート!F38 -> 0 | D6: =入力シート!E38 -> 0
A7: 選手名2 | B7: =入力シート!C39 -> 0 | C7: =入力シート!F39 -> 0 | D7: =入力シート!E39 -> 0
A8: 選手名3 | B8: =入力シート!C40 -> 0 | C8: =入力シート!F40 -> 0 | D8: =入力シート!E40 -> 0
A9: 選手名4 | B9: =入力シート!C41 -> 0 | C9: =入力シート!F41 -> 0 | D9: =入力シート!E41 -> 0
A10: 選手名5 | B10: =入力シート!C42 -> 0 | C10: =入力シート!F42 -> 0 | D10: =入力シート!E42 -> 0
A11: 選手名6 | B11: =入力シート!C43 -> 0 | C11: =入力シート!F43 -> 0 | D11: =入力シート!E43 -> 0
A12: 選手名7 | B12: =入力シート!C44 -> 0 | C12: =入力シート!F44 -> 0 | D12: =入力シート!E44 -> 0
A13: 選手名8 | B13: =入力シート!C45 -> 0 | C13: =入力シート!F45 -> 0 | D13: =入力シート!E45 -> 0
A14: 選手名9 | B14: =入力シート!C46 -> 0 | C14: =入力シート!F46 -> 0 | D14: =入力シート!E46 -> 0
A15: 選手名10 | B15: =入力シート!C47 -> 0 | C15: =入力シート!F47 -> 0 | D15: =入力シート!E47 -> 0
A16: 選手名11 | B16: =入力シート!C48 -> 0 | C16: =入力シート!F48 -> 0 | D16: =入力シート!E48 -> 0
A17: 選手名12 | B17: =入力シート!C49 -> 0 | C17: =入力シート!F49 -> 0 | D17: =入力シート!E49 -> 0
... A30: 選手名25 | B30: =入力シート!C62 -> 0 | C30: =入力シート!F62 -> 0 | D30: =入力シート!E62 -> 0

Sheet 選手
A1: ＩＤ | B1: チーム番号 | C1: 背番号 | D1: 選手名 | E1: 仮名 | F1: 通算成績番号
C2: =入力シート!C38 -> 0 | D2: =入力シート!E38 -> 0 | E2: =入力シート!F38 -> 0
C3: =入力シート!C39 -> 0 | D3: =入力シート!E39 -> 0 | E3: =入力シート!F39 -> 0
C4: =入力シート!C40 -> 0 | D4: =入力シート!E40 -> 0 | E4: =入力シート!F40 -> 0
C5: =入力シート!C41 -> 0 | D5: =入力シート!E41 -> 0 | E5: =入力シート!F41 -> 0
C6: =入力シート!C42 -> 0 | D6: =入力シート!E42 -> 0 | E6: =入力シート!F42 -> 0
C7: =入力シート!C43 -> 0 | D7: =入力シート!E43 -> 0 | E7: =入力シート!F43 -> 0
C8: =入力シート!C44 -> 0 | D8: =入力シート!E44 -> 0 | E8: =入力シート!F44 -> 0
C9: =入力シート!C45 -> 0 | D9: =入力シート!E45 -> 0 | E9: =入力シート!F45 -> 0
C10: =入力シート!C46 -> 0 | D10: =入力シート!E46 -> 0 | E10: =入力シート!F46 -> 0
C11: =入力シート!C47 -> 0 | D11: =入力シート!E47 -> 0 | E11: =入力シート!F47 -> 0
C12: =入力シート!C48 -> 0 | D12: =入力シート!E48 -> 0 | E12: =入力シート!F48 -> 0
C13: =入力シート!C49 -> 0 | D13: =入力シート!E49 -> 0 | E13: =入力シート!F49 -> 0
... C26: =入力シート!C62 -> 0 | D26: =入力シート!E62 -> 0 | E26: =入力シート!F62 -> 0
